BEGIN:VCALENDAR
VERSION:2.0
PRODID:icalendar-ruby
CALSCALE:GREGORIAN
METHOD:PUBLISH
BEGIN:VEVENT
DTSTAMP:20260422T224132Z
UID:682-9411779@graceabbotsford.com
DTSTART:20261016T013000Z
DTEND:20261016T033000Z
CLASS:PUBLIC
CREATED:20260422T144301
DESCRIPTION:Youth!  Join us and bring your friends for our Youth Nights on
  Thursdays @ 6:30-8:30PM.  All youth in Grades 6-12 are welcome.  W
 e are looking forward to hanging out\, playing lots of games\, study the B
 ible &amp\; enjoy some yummy snacks together.\n \nEach month we will have
  a time of worship prior to our evening's events.  Throughout the year\, 
 there will also be other fun events such as going to the corn maze or part
 icipating in service projects.\n \nGot questions? Don't hesitate to reac
 h out to me\, Kathlyn\, at: kathlynj@youthunlimited.com\n \nHope to see 
 YOU there!
LAST-MODIFIED:20260422T144301
LOCATION:
SUMMARY:Youth Nights
URL;VALUE=URI:https://www.graceabbotsford.com/events/youth-nights/2026-10-1
 5
ATTACH;FILENAME=youth ministry lightbulbS.jpg;FMTTYPE=image/jpeg:https://dq
 5pwpg1q8ru0.cloudfront.net/2025/11/20/19/17/30/ca32e4f7-b964-43c8-81a5-3dc
 b3568005f/youth%20ministry%20lightbulbS.jpg
END:VEVENT
END:VCALENDAR
