BEGIN:VCALENDAR
VERSION:2.0
PRODID:icalendar-ruby
CALSCALE:GREGORIAN
METHOD:PUBLISH
BEGIN:VEVENT
DTSTAMP:20260422T022059Z
UID:705-9390049@graceabbotsford.com
DTSTART:20261001T014500Z
DTEND:20261001T040000Z
CLASS:PUBLIC
CREATED:20260421T160947
DESCRIPTION:\nLadies\, join in the Fireside Room for a time of connection\,
  Bible Study and prayer.  We have some interesting topics over the next f
 ew months.  \n* January 21 - February 25:  Wilma Priebe &amp\; Elaine 
 Mierau will be leading a 6 week study called "Faith Lessons On The Promise
 d Land".\n* March 04 &amp\; 11:  Marilyn Barr will be leading a 2 week s
 tudy called "The Forgotten Epistles".\nWe'd love to see YOU there!\n
LAST-MODIFIED:20260421T160947
LOCATION:2087 McMillan Rd.\, Abbotsford\, BC V2S 4Y3
SUMMARY:Women's Bible Study
URL;VALUE=URI:https://www.graceabbotsford.com/events/womens-bible-study--70
 4/2026-09-30
ATTACH;FILENAME=heart bible sparkles.jpg;FMTTYPE=image/jpeg:https://dq5pwpg
 1q8ru0.cloudfront.net/2026/01/29/22/18/53/1b594a7a-a490-4afd-a886-34cf14d5
 4f07/heart%20bible%20sparkles.jpg
END:VEVENT
END:VCALENDAR
