BEGIN:VCALENDAR
VERSION:2.0
PRODID:icalendar-ruby
CALSCALE:GREGORIAN
METHOD:PUBLISH
BEGIN:VEVENT
DTSTAMP:20260420T155730Z
UID:712-9350801@graceabbotsford.com
DTSTART:20261101T190000Z
DTEND:20261101T201500Z
CLASS:PUBLIC
CREATED:20260420T081229
DESCRIPTION:Join us as we gather together as a church family to worship &am
 p\; learn from God's Word together as a church family.  See YOU there!  
  www.graceabbotsford.com
LAST-MODIFIED:20260420T081229
LOCATION:2087 McMillan Rd
SUMMARY:Sunday AM Worship Service
URL;VALUE=URI:https://www.graceabbotsford.com/events/sunday-am-worship-serv
 ice/2026-11-01
ATTACH;FILENAME=sunday AM worship.jpg;FMTTYPE=image/jpeg:https://dq5pwpg1q8
 ru0.cloudfront.net/2026/03/26/15/57/50/eac2af4a-7c6e-4203-9939-25a5e57efd2
 4/sunday%20AM%20worship.jpg
END:VEVENT
END:VCALENDAR
