BEGIN:VCALENDAR
VERSION:2.0
PRODID:icalendar-ruby
CALSCALE:GREGORIAN
METHOD:PUBLISH
BEGIN:VEVENT
DTSTAMP:20260423T110217Z
UID:681-9420461@graceabbotsford.com
DTSTART:20261103T173000Z
DTEND:20261103T193000Z
CLASS:PUBLIC
CREATED:20260423T030333
DESCRIPTION:Moms!  Join us for a chill time of just beign Moms together wi
 th our little ones playing at our feet or napping nearby.  We will be wor
 king our way through an audio book called "M Is For Mama".  Each week is 
 a stand alone session so you won't feel left behind if you happen to miss 
 a week.  \nCome be enouraged through connection with other moms....and c
 offee!  Got questions?  Please feel free to reach out to:  childrensmin
 istry.gebc@gmail.com\nSee YOU there!
LAST-MODIFIED:20260423T030333
LOCATION:Room 221 (Use Saint Matthew's Entrance - South Side)
SUMMARY:Mom 2 Mom
URL;VALUE=URI:https://www.graceabbotsford.com/events/mom-2-mom/2026-11-03
ATTACH;FILENAME=2025 Moms Grp.jpg;FMTTYPE=image/jpeg:https://dq5pwpg1q8ru0.
 cloudfront.net/2025/09/16/17/59/09/166de2b2-a8e1-470b-9da2-611994570365/20
 25%20Moms%20Grp.jpg
END:VEVENT
END:VCALENDAR
